BEGIN:VCALENDAR
PRODID:-//eluceo/ical//2.0/EN
VERSION:2.0
CALSCALE:GREGORIAN
BEGIN:VEVENT
UID:31997ca5c143fd0bf3159c3947d21c70
DTSTAMP:20260423T210254Z
SUMMARY:Verbier Festival 2023
DESCRIPTION:Webseite: https://verbier-st-bernard.rotary1990.ch/de/agenda/sh
 ow/136260
URL:https://rotary2000.ch/de/agenda/show/158432
DTSTART;TZID=Europe/Zurich:20230715T183000
DTEND;TZID=Europe/Zurich:20230715T233000
LOCATION:Salle des Combins\, Chem. de Plan Pra\, 1936 Bagnes
CATEGORIES:Rotary
END:VEVENT
BEGIN:VTIMEZONE
TZID:Europe/Zurich
BEGIN:DAYLIGHT
DTSTART:20230715T183000
TZNAME:CEST
TZOFFSETTO:+0200
TZOFFSETFROM:+0200
END:DAYLIGHT
END:VTIMEZONE
END:VCALENDAR
