BEGIN:VCALENDAR
PRODID:-//eluceo/ical//2.0/EN
VERSION:2.0
CALSCALE:GREGORIAN
BEGIN:VEVENT
UID:6f0f720ed7655f6f2f3340abf7a389a8
DTSTAMP:20260419T122454Z
SUMMARY:ROBIJ Berufserkundungstag bei Scherrer Metec AG
DESCRIPTION:Website: https://robij.ch/
URL:https://rotary-zh-sihltal.ch/en/agenda/show/208580
DTSTART;TZID=Europe/Zurich:20260124T143000
DTEND;TZID=Europe/Zurich:20260124T160000
LOCATION:Werkstätten der Scherrer Metec AG\, Allmendstrasse 7\, 8002 Züri
 ch
CATEGORIES:Rotary
END:VEVENT
BEGIN:VTIMEZONE
TZID:Europe/Zurich
BEGIN:STANDARD
DTSTART:20260124T143000
TZNAME:CET
TZOFFSETTO:+0100
TZOFFSETFROM:+0100
END:STANDARD
END:VTIMEZONE
END:VCALENDAR
