BEGIN:VCALENDAR
PRODID:-//eluceo/ical//2.0/EN
VERSION:2.0
CALSCALE:GREGORIAN
BEGIN:VEVENT
UID:71e05171064bbd719d7cd5121cab0823
DTSTAMP:20260423T093517Z
SUMMARY:Plauderlunch
DESCRIPTION:Sommerferien
URL:https://rotary-zh-sihltal.ch/en/agenda/show/24207
DTSTART;TZID=Europe/Zurich:20120726T120000
DTEND;TZID=Europe/Zurich:20120726T140000
LOCATION:Belvoir Zürich
CATEGORIES:Rotary
END:VEVENT
BEGIN:VTIMEZONE
TZID:Europe/Zurich
BEGIN:DAYLIGHT
DTSTART:20120726T120000
TZNAME:CEST
TZOFFSETTO:+0200
TZOFFSETFROM:+0200
END:DAYLIGHT
END:VTIMEZONE
END:VCALENDAR
