BEGIN:VCALENDAR
PRODID:-//eluceo/ical//2.0/EN
VERSION:2.0
CALSCALE:GREGORIAN
BEGIN:VEVENT
UID:348b29923f9f91e84f376d4a967a5a75
DTSTAMP:20260423T101820Z
SUMMARY:Plauderlunch entfällt/Partneranlass 
DESCRIPTION:Oldtimer/Cabrio/Moto Treffpunkt/Programm (sep. Organisation\, A
 ndré Springer)
URL:https://rotary-zh-sihltal.ch/en/agenda/show/24211
DTSTART;TZID=Europe/Zurich:20120823T163000
DTEND;TZID=Europe/Zurich:20120823T183000
LOCATION:Albispass 16:30/Restaurant Tracht 18:15
CATEGORIES:Rotary
END:VEVENT
BEGIN:VTIMEZONE
TZID:Europe/Zurich
BEGIN:DAYLIGHT
DTSTART:20120823T163000
TZNAME:CEST
TZOFFSETTO:+0200
TZOFFSETFROM:+0200
END:DAYLIGHT
END:VTIMEZONE
END:VCALENDAR
