BEGIN:VCALENDAR
PRODID:-//eluceo/ical//2.0/EN
VERSION:2.0
CALSCALE:GREGORIAN
BEGIN:VEVENT
UID:a962b2dfa9aaf3afcbe12085af2f3a59
DTSTAMP:20260423T084858Z
SUMMARY:Plauderlunch
DESCRIPTION:
URL:https://rotary-zh-sihltal.ch/en/agenda/show/25362
DTSTART;TZID=Europe/Zurich:20121011T120000
DTEND;TZID=Europe/Zurich:20121011T120000
LOCATION:Restaurant Krone
CATEGORIES:Rotary
END:VEVENT
BEGIN:VTIMEZONE
TZID:Europe/Zurich
BEGIN:DAYLIGHT
DTSTART:20121011T120000
TZNAME:CEST
TZOFFSETTO:+0200
TZOFFSETFROM:+0200
END:DAYLIGHT
END:VTIMEZONE
END:VCALENDAR
