BEGIN:VCALENDAR
PRODID:-//eluceo/ical//2.0/EN
VERSION:2.0
CALSCALE:GREGORIAN
BEGIN:VEVENT
UID:37eae8d02ac09e0a153c8c234ae87e49
DTSTAMP:20260421T183432Z
SUMMARY:Plauderlunch
DESCRIPTION:
URL:https://rotary-zh-sihltal.ch/en/agenda/show/26205
DTSTART;TZID=Europe/Zurich:20121108T000000
DTEND;TZID=Europe/Zurich:20121108T000000
LOCATION:Restaurant Krone
CATEGORIES:Rotary
END:VEVENT
BEGIN:VTIMEZONE
TZID:Europe/Zurich
BEGIN:STANDARD
DTSTART:20121108T000000
TZNAME:CET
TZOFFSETTO:+0100
TZOFFSETFROM:+0100
END:STANDARD
END:VTIMEZONE
END:VCALENDAR
