BEGIN:VCALENDAR
PRODID:-//eluceo/ical//2.0/EN
VERSION:2.0
CALSCALE:GREGORIAN
BEGIN:VEVENT
UID:23ef89b4b3b2281e7cd5d0c0c1f64537
DTSTAMP:20260423T084604Z
SUMMARY:Plauderlunch
DESCRIPTION:
URL:https://rotary-zh-sihltal.ch/en/agenda/show/26710
DTSTART;TZID=Europe/Zurich:20121213T121500
DTEND;TZID=Europe/Zurich:20121213T121500
LOCATION:Restaurant Krone
CATEGORIES:Rotary
END:VEVENT
BEGIN:VTIMEZONE
TZID:Europe/Zurich
BEGIN:STANDARD
DTSTART:20121213T121500
TZNAME:CET
TZOFFSETTO:+0100
TZOFFSETFROM:+0100
END:STANDARD
END:VTIMEZONE
END:VCALENDAR
