BEGIN:VCALENDAR
PRODID:-//eluceo/ical//2.0/EN
VERSION:2.0
CALSCALE:GREGORIAN
BEGIN:VEVENT
UID:944f533a70286107c964639c21738459
DTSTAMP:20260423T093237Z
SUMMARY:Eishockey-Turnier Rotary/Lions
DESCRIPTION:Turnier-Organisation und anschl. Nachtessen Pizzeria Capri\, Ad
 liswil gemäss separater Organisation Thomas Heiniger)
URL:https://rotary-zh-sihltal.ch/en/agenda/show/28851
DTSTART;TZID=Europe/Zurich:20130303T150000
DTEND;TZID=Europe/Zurich:20130303T150000
LOCATION:Herti-Halle Zug (Bossard Arena)
CATEGORIES:Rotary
END:VEVENT
BEGIN:VTIMEZONE
TZID:Europe/Zurich
BEGIN:STANDARD
DTSTART:20130303T150000
TZNAME:CET
TZOFFSETTO:+0100
TZOFFSETFROM:+0100
END:STANDARD
END:VTIMEZONE
END:VCALENDAR
